BEGIN:VCALENDAR
VERSION:2.0
PRODID:-//hacksw/handcal//NONSGML v1.0//EN
CALSCALE:GREGORIAN
BEGIN:VEVENT
UID:69e73f20ca69d
DTSTAMP:20260421T091056
LOCATION:Ermelosche Heide\, Postweg 50
DESCRIPTION:Schilders kunnen zich op zondag 30 augustus laten&nbsp\;inspireren door de bloeiende heide in de buurt van grazende schapen en meedoen met Schilderen op de Heide.&nbsp\;
SUMMARY:Doe mee met ‘Schilderen op de Ermelosche Heide’
URL;VALUE=URI:https://www.puttensezaken.nl/agenda/doe-mee-met-schilderen-op-de-ermelosche-heide
DTSTART:20200829T123000
DTEND:20200829T235900
END:VEVENT
END:VCALENDAR
