BEGIN:VCALENDAR
VERSION:2.0
PRODID:-//hacksw/handcal//NONSGML v1.0//EN
CALSCALE:GREGORIAN
BEGIN:VEVENT
UID:69e740cda73d8
DTSTAMP:20260421T091805
LOCATION:Museum de Tien Malen\,Garderenseweg 97
DESCRIPTION:​De tijdelijke tentoonstelling &nbsp\;&lsquo\;Hoogge&euml\;erd publiek&hellip\;komt dat zien\, komt dat zien\, Honderd jaar circusspeelgoed&#39\; is te bezoeken in Museum de Tien Malen.
SUMMARY:Expositie ‘Honderd jaar circusspeelgoed’ in Museum de Tien Malen
URL;VALUE=URI:https://www.puttensezaken.nl/agenda/expositie-honderd-jaar-circusspeelgoed-in-museum-de-tien-malen
DTSTART:20231003T133000
DTEND:20231027T163000
END:VEVENT
END:VCALENDAR
