BEGIN:VCALENDAR
VERSION:2.0
PRODID:-//hacksw/handcal//NONSGML v1.0//EN
CALSCALE:GREGORIAN
BEGIN:VEVENT
UID:69e73d693306b
DTSTAMP:20260421T090337
LOCATION:Winkelcentrum Putten\, 
DESCRIPTION:Op zoek naar de nieuwste trends op het gebied van beauty\, koken\, lifestyle en meer? Kom dan op zaterdag 2 april naar het winkelcentrum van Putten.
SUMMARY:​Trendzz in Winkelcentrum Putten
URL;VALUE=URI:https://www.puttensezaken.nl/agenda/trendzz-in-winkelcentrum-putten
DTSTART:20220401T110000
DTEND:20220401T235900
END:VEVENT
END:VCALENDAR
