BEGIN:VCALENDAR
VERSION:2.0
PRODID:-//hacksw/handcal//NONSGML v1.0//EN
CALSCALE:GREGORIAN
BEGIN:VEVENT
UID:69e4eb2a20302
DTSTAMP:20260419T144810
LOCATION:Landgoed Staverden\,Uddelermeerweg 2
DESCRIPTION:De boswachters van Geldersch Landschap &amp\; Kasteelen houden op&nbsp\;zondag 4 oktober&nbsp\;een wandeling op landgoed Staverden die in het teken staat van dierendag.
SUMMARY:Wandel mee met de boswachter en ontdek welke dieren er leven in het bos
URL;VALUE=URI:https://www.puttensezaken.nl/agenda/wandel-mee-met-de-boswachter-en-ontdek-welke-dieren-er-leven-in-het-bos
DTSTART:20201003T140000
DTEND:20201003T235900
END:VEVENT
END:VCALENDAR
