BEGIN:VCALENDAR
VERSION:2.0
PRODID:-//hacksw/handcal//NONSGML v1.0//EN
CALSCALE:GREGORIAN
BEGIN:VEVENT
UID:69e75681a0106
DTSTAMP:20260421T105041
LOCATION:'t Lichtpunt\,Hessenweg  7A
DESCRIPTION:Woord en Daad houdt op zaterdag 7 januari&nbsp\;&nbsp\;een autopuzzeltocht en/of een wandelpuzzeltocht. Liefhebbers van wandelen\, autorijden en puzzelen zijn van harte welkom om mee te doen voor het goede doel.
SUMMARY:Woord en Daad: Wandel- en autopuzzeltocht
URL;VALUE=URI:https://www.puttensezaken.nl/agenda/woord-en-daad-wandel-en-autopuzzeltocht
DTSTART:20230106T110000
DTEND:20230106T235900
END:VEVENT
END:VCALENDAR
